Workbook

Sheet 0_Навігація
A1: АПК «МАГНУЗ–МУФЛОН» — ЕКСПЕРТНО-АНАЛІТИЧНА СИСТЕМА СУПРОВОДУ ЛІКУВАННЯ
A2: Навігація по книзі. Стовпець «Для кого» показує основного адресата листа. Жовтим позначено листи, які заповнює персонал; зеленим — ті, що рахуються автоматично; сірим — довідкові.
A5: Лист | B5: Призначення | C5: Для кого | D5: Тип | E5: Статус | F5: Примітка
A6: Інструкція_протокол | B6: Експрес-керівництво користувача: концепція, домени, протокол | C6: Лікар, реабілітолог | D6: довідник | E6: наявний
A7: A_Картка_пацієнта | B7: Паспорт пацієнта та журнал сеансів | C7: Лікар, медсестра | D7: вхід | E7: НОВИЙ — заповнити | F7: Ключовий обліковий документ
A8: C_Чек-лист_безпеки | B8: Обов'язкова перевірка перед кожним сеансом | C8: Лікар, оператор | D8: вхід | E8: НОВИЙ — заповнити | F8: 19 пунктів, СТОП/УВАГА
A9: B_Дозиметрія_сеансів | B9: Фактично доставлені режими за зонами | C9: Оператор, інженер, метролог | D9: вхід | E9: НОВИЙ — заповнити | F9: 6 рядків на сеанс
A10: D_Небажані_явища | B10: Реєстр небажаних явищ (AE/SAE) | C10: Лікар, регуляторний супровід | D10: вхід | E10: НОВИЙ — заповнити | F10: Вимога досьє
A11: 1_Input_5_обстежень_ | B11: Введення експрес-обстеження (33 показники) | C11: Лікар, дослідник | D11: вхід | E11: наявний | F11: Ваги виправлено на числа
A12: 3_коефіцієнти_розширеного_аналі | B12: Введення повного обстеження (48 показників) | C12: Лікар, дослідник | D12: вхід | E12: наявний
A13: 2_Parameter_Scores | B13: Нормалізовані S-бали експрес-набору | C13: Біофізик | D13: авто | E13: наявний
A14: 5_Mechanistic | B14: Механістичний індекс MI (повне/експрес) | C14: Лікар, біофізик | D14: авто | E14: перебудовано | F14: Ядро доказовості
A15: 6_Audit_Trail | B15: Усі 13 індексів + зведена панель лікаря | C15: Лікар, біофізик | D15: авто | E15: перебудовано | F15: Головний аналітичний лист
A16: 7_Final | B16: Підсумкові домени, CREI та інтегральні індекси | C16: Лікар | D16: авто | E16: наявний
A17: F_Статистика_когорти | B17: Описова статистика масиву 195 пацієнтів | C17: Біофізик-статистик | D17: авто | E17: НОВИЙ | F17: Рахується автоматично
A18: G1_Динаміка_індексів | B18: Динаміка індексів КОНКРЕТНОГО пацієнта за 5 обстеженнями + 3 графіки | C18: Лікар | D18: авто | E18: НОВИЙ | F18: Головний лист візуалізації лікування
A19: F1_Когортні_індекси | B19: Динаміка ІНДЕКСІВ по 4 групах (195 пацієнтів) + 4 графіки | C19: Біофізик-статистик | D19: авто | E19: НОВИЙ | F19: ⚠ частина показників могли бути втрачені
A20: K_Статистика_порівняння | B20: Описова статистика, порівняння когорт і пацієнта з когортою | C20: Біофізик-статистик, лікар | D20: авто | E20: НОВИЙ | F20: Cohen’s d, 95% ДІ, перцентиль
A21: G_Тренди | B21: Трендові діаграми КОГОРТИ (195 пацієнтів, 4 групи) | C21: Біофізик-статистик | D21: авто | E21: НОВИЙ | F21: Замінив порожню заглушку
A22: 2024_2026 | B22: Клінічний масив: 195 пацієнтів × 5 візитів × 21 показник | C22: Біофізик-статистик | D22: довідник | E22: наявний | F22: ⚠ 16 з 21 показників втрачаються при експрес методах
A23: Терапія_по_зонах | B23: 116 нозологій: базові 6 + прецизійні 6 зон | C23: Лікар | D23: довідник | E23: розширено | F23: Стовпці AK–AS — нові
A24: 6+1_зони_підсумок | B24: Зведена таблиця «6+1» для 116 нозологій | C24: Лікар | D24: довідник | E24: наявний
A25: Довідник_зон_S-matrix | B25: 232 точки ТКМ: режими та застереження | C25: Лікар, оператор | D25: довідник | E25: розширено | F25: Колонка застережень — критична
A26: J_Карта_точок | B26: Схема тіла: де саме ставити аплікатор для обраної точки | C26: Лікар, оператор фізіотерапії | D26: довідник | E26: НОВИЙ | F26: Без макросів; точність ±3–6 см
A27: 8_параметричны описи | B27: 60 показників: обладнання, опитувальники, стандарти | C27: Метролог, клініцист | D27: довідник | E27: розширено | F27: Ліцензії позначено
A28: Інструкція_кор
A29: E_Метрологія_обладнання
A30: H_Валідація_моделі
A31: I_Журнал_версій | B31: Контроль змін конфігурації (IEC 62304)
A33: ВИЛУЧЕНО ПРИ АУДИТІ
A34: 4_Reference_Standards | B34: Містив 33 рядки з ІДЕНТИЧНИМ текстом-заглушкою «IMMPACT/IASP/ESC/SENIAM/EuroQol depending on domain» — не вказував, який стандарт до якого показника належить. Повністю замінено конкретними стандартами у стовпці N листа «8_параметричны описи».
A35: 9_Тренд_графіки | B35: Містив лише заголовок і підпис джерела — жодних даних чи діаграм. Замінено робочим листом «G_Тренди».
A37: ЗАХИСТ МЕТОДИКИ
A38: Що захищено | C38: Усі комірки з формулами на всіх листах заблоковано, кожен лист і структуру книги захищено паролем. Змінити розрахункову методику, вагові коефіцієнти поза дозволеними полями, додати чи вилучити листи без пароля неможливо.
A39: Що лишилось відкритим | C39: Введення даних працює як і раніше: листи обстежень, масив «2024_2026», картка пацієнта, дозиметрія, чек-лист, реєстр небажаних явищ, метрологія, журнал версій. Також відкриті: перемикач режиму та ваги на листі «5_Mechanistic», блоки ваг на листі «6_Audit_Trail», вибір точки на листі «J_Карта_точок».
A40: ⚠ РЕАЛЬНИЙ РІВЕНЬ ЗАХИСТУ | C40: Парольний захист аркушів Excel НЕ є криптографічним. Він надійно запобігає ВИПАДКОВІЙ зміні формул, але фахівець зніме його безкоштовними утилітами за кілька хвилин. Для захисту ліцензованої методики в багатоцентровому дослідженні цього НЕДОСТАТНЬО — потрібні договірні зобов’язання центрів-учасників, передача розрахункового ядра у вигляді закритого сервісу або скомпільованого модуля, а також контроль версій із перевіркою контрольних сум файлу.
A41: Контроль цілісності | C41: Перед прийняттям даних від стороннього центру запускайте лист «H_Валідація_моделі»: якщо ваги чи структуру було змінено, загальний статус зміниться з «МОДЕЛЬ ЦІЛІСНА» на перелік відхилень.

Sheet Інструкція_протокол
C2: ЕКСПРЕС-КЕРІВНИЦТВО КОРИСТУВАЧА
C4: Експериментальна система біоадаптивної діагностики та реабілітації
C6: АПК «МАГНУЗ–МУФЛОН-7»
C8: Версія для лікаря, реабілітолога, фізичного терапевта та дослідника
C12: 1. КОНЦЕПЦІЯ СИСТЕМИ
C14: Згідно з монографією та звітом НДР, АПК «МАГНУЗ–МУФЛОН-7» розглядається як біоадаптивна мультифізична система замкненого циклу, що об'єднує:
C16: 1. Діагностику.
C17: 2. Планування лікування.
C18: 3. Реабілітаційний супровід.
C19: 4. Періодичні контрольні огляди.
C20: 5. Довготерміновий моніторинг результатів.
C22: Система побудована на принципі одночасного впливу на кілька доменів патологічного процесу:
C24: Домен | D24: Основна мішень
C25: Pain | D25: Біль
C26: Neuro | D26: Центральна сенситизація, ПТСР
C27: ANS | D27: Вегетативна дисфункція
C28: Function | D28: Рухова активність
C29: Trophic | D29: Трофіка та регенерація
C30: Digital | D30: Цифровий моніторинг
C31: Lab | D31: Біомаркери
C33: Основою лікувальної стратегії є персоналізоване керування 6 терапевтичними зонами через мультиатласну модель. [Монографія_2026 | Word], [Звіт_НДР_М...026_2027_1 | Word]
C37: 2. ЛОГІКА РОБОТИ АПК
C39: Обстеження
C40: ↓
C41: Оцінка ризиків
C42: ↓
C43: MAGNUZ Excel AI
C44: ↓
C45: Побудова S-Matrix
C46: ↓
C47: Визначення 6+1 зон
C48: ↓
... C388: Рекомендована схема обходження зон:
C390: 1
C391: ↓
C392: 4
C393: ↓
C394: 2
C395: ↓
C396: 3
...

Sheet 1_Input_5_обстежень_
A1: Domain | B1: Code | C1: English Name | D1: Український опис | E1: Baseline | F1: Norm | G1: Direction | H1: Day5 | I1: Day10 | J1: Day20 | K1: Day40 | L1: Day80 | M1: Code | N1: Коефіцієнт ваги в домені | O1: Ukrainian
A2: Pain | B2: VAS | C2: Visual Analog Scale | D2: Візуально-аналогова шкала болю; суб’єктивна оцінка інтенсивності болю | E2: 76.39 | F2: 22.92 | G2: ↓ добре | H2: 68.75 | I2: 61.11 | J2: 49.65 | K2: 42.01 | L2: 38.2 | M2: VAS | N2: 0.2 | O2: Візуально-аналогова шкала болю; суб’єктивна оцінка інтенсивності болю
A3: Pain | B3: NRS | C3: Numeric Rating Scale | D3: Числова рейтингова шкала болю | E3: 73.59 | F3: 22.08 | G3: ↓ добре | H3: 66.23 | I3: 58.87 | J3: 47.83 | K3: 40.47 | L3: 36.8 | M3: NRS | N3: 0.15 | O3: Числова рейтингова шкала болю
A4: Pain | B4: BPI | C4: Brief Pain Inventory | D4: Вплив болю на функціонування | E4: 54.99 | F4: 16.5 | G4: ↓ добре | H4: 49.49 | I4: 43.99 | J4: 35.74 | K4: 30.24 | L4: 27.5 | M4: BPI | N4: 0.2 | O4: Вплив болю на функціонування
A5: Pain | B5: DN4 | C5: Douleur Neuropathique 4 | D5: Скринінг нейропатичного болю | E5: 44.58 | F5: 13.37 | G5: ↓ добре | H5: 40.12 | I5: 35.66 | J5: 28.98 | K5: 24.52 | L5: 22.29 | M5: DN4 | N5: 0.1 | O5: Скринінг нейропатичного болю
A6: Pain | B6: PainDETECT | C6: PainDETECT Questionnaire | D6: Ймовірність нейропатичного компоненту болю | E6: 73.2 | F6: 21.96 | G6: ↓ добре | H6: 65.88 | I6: 58.56 | J6: 47.58 | K6: 40.26 | L6: 36.6 | M6: PainDETECT | N6: 0.1 | O6: Ймовірність нейропатичного компоненту болю
A7: Pain | B7: NPSI | C7: Neuropathic Pain Symptom Inventory | D7: Структура нейропатичного болю | E7: 52.14 | F7: 15.64 | G7: ↓ добре | H7: 46.93 | I7: 41.71 | J7: 33.89 | K7: 28.68 | L7: 26.07 | M7: NPSI | N7: 0.15 | O7: Структура нейропатичного болю
A8: Pain | B8: PainDuration | C8: Pain Duration | D8: Тривалість хронічного болю | E8: 66.31 | F8: 19.89 | G8: ↓ добре | H8: 59.68 | I8: 53.05 | J8: 43.1 | K8: 36.47 | L8: 33.16 | M8: PainDuration | N8: 0.1 | O8: Тривалість хронічного болю
A9: Neuro | B9: CSI | C9: Central Sensitization Inventory | D9: Ознаки центральної сенситизації | E9: 62.76 | F9: 18.83 | G9: ↓ добре | H9: 56.48 | I9: 50.21 | J9: 40.79 | K9: 34.52 | L9: 31.38 | M9: CSI | N9: 0.15 | O9: Ознаки центральної сенситизації
A10: Neuro | B10: PCS | C10: Pain Catastrophizing Scale | D10: Катастрофізація болю | E10: 65.83 | F10: 19.75 | G10: ↓ добре | H10: 59.25 | I10: 52.66 | J10: 42.79 | K10: 36.21 | L10: 32.91 | M10: PCS | N10: =1-N9-N11-N12-N13-N14-N15-N16 -> 0.23 | O10: Катастрофізація болю
A11: Neuro | B11: HADS_A | C11: Hospital Anxiety Scale | D11: Тривожність | E11: 78.5 | F11: 23.55 | G11: ↓ добре | H11: 70.65 | I11: 62.8 | J11: 51.02 | K11: 43.18 | L11: 39.25 | M11: HADS_A | N11: 0.1 | O11: Тривожність
A12: Neuro | B12: HADS_D | C12: Hospital Depression Scale | D12: Депресія | E12: 73.05 | F12: 21.91 | G12: ↓ добре | H12: 65.75 | I12: 58.44 | J12: 47.48 | K12: 40.18 | L12: 36.52 | M12: HADS_D | N12: 0.1 | O12: Депресія
A13: Neuro | B13: PCL5 | C13: PTSD Checklist DSM-5 | D13: Вираженість ПТСР | E13: 65.28 | F13: 19.58 | G13: ↓ добре | H13: 58.75 | I13: 52.22 | J13: 42.43 | K13: 35.9 | L13: 32.64 | M13: PCL5 | N13: =0.18 -> 0.18 | O13: Вираженість ПТСР
A14: Neuro | B14: PSS | C14: Perceived Stress Scale | D14: Сприйнятий стрес | E14: 52.31 | F14: 15.69 | G14: ↓ добре | H14: 47.08 | I14: 41.85 | J14: 34 | K14: 28.77 | L14: 26.16 | M14: PSS | N14: =0.08 -> 0.08 | O14: Сприйнятий стрес
A15: Neuro | B15: FSS | C15: Fatigue Severity Scale | D15: Втома | E15: 41.94 | F15: 12.58 | G15: ↓ добре | H15: 37.75 | I15: 33.55 | J15: 27.26 | K15: 23.07 | L15: 20.97 | M15: FSS | N15: 0.08 | O15: Втома
A16: Neuro | B16: PSQI | C16: Pittsburgh Sleep Quality Index | D16: Якість сну | E16: 73.04 | F16: 21.91 | G16: ↓ добре | H16: 65.74 | I16: 58.43 | J16: 47.48 | K16: 40.17 | L16: 36.52 | M16: PSQI | N16: 0.08 | O16: Якість сну
A17: ANS | B17: HRV | C17: Heart Rate Variability | D17: Варіабельність серцевого ритму | E17: 52.18 | F17: 78.27 | G17: ↑ добре | H17: 54.79 | I17: 57.4 | J17: 61.31 | K17: 63.92 | L17: 65.22 | M17: HRV | N17: 0.2 | O17: Варіабельність серцевого ритму
A18: ANS | B18: RMSSD | C18: RMSSD | D18: Парасимпатична активність | E18: 63.77 | F18: 95.66 | G18: ↑ добре | H18: 66.96 | I18: 70.15 | J18: 74.93 | K18: 78.12 | L18: 79.72 | M18: RMSSD | N18: 0.2 | O18: Парасимпатична активність
A19: ANS | B19: SDNN | C19: SDNN | D19: Загальна автономна регуляція | E19: 79.27 | F19: 118.91 | G19: ↑ добре | H19: 83.23 | I19: 87.2 | J19: 93.14 | K19: 97.11 | L19: 99.09 | M19: SDNN | N19: 0.2 | O19: Загальна автономна регуляція
A20: ANS | B20: LFHF | C20: LF/HF Ratio | D20: Симпато-вагальний баланс | E20: 68.78 | F20: 20.63 | G20: ↓ добре | H20: 61.9 | I20: 55.02 | J20: 44.71 | K20: 37.83 | L20: 34.39 | M20: LFHF | N20: 0.15 | O20: Симпато-вагальний баланс
A21: ANS | B21: HR | C21: Heart Rate | D21: Частота серцевих скорочень | E21: 44.34 | F21: 13.3 | G21: ↓ добре | H21: 39.91 | I21: 35.47 | J21: 28.82 | K21: 24.39 | L21: 22.17 | M21: HR | N21: 0.1 | O21: Частота серцевих скорочень
A22: ANS | B22: BP | C22: Blood Pressure Index | D22: Артеріальний тиск | E22: 59.27 | F22: 17.78 | G22: ↓ добре | H22: 53.34 | I22: 47.42 | J22: 38.53 | K22: 32.6 | L22: 29.64 | M22: BP | N22: 0.15 | O22: Артеріальний тиск
A23: Function | B23: ROM | C23: Range of Motion | D23: Обсяг рухів | E23: 76.49 | F23: 114.73 | G23: ↑ добре | H23: 80.31 | I23: 84.14 | J23: 89.87 | K23: 93.7 | L23: 95.61 | M23: ROM | N23: 0.15 | O23: Обсяг рухів
A24: Function | B24: 6MWT | C24: 6 Minute Walk Test | D24: Толерантність до навантаження | E24: 71.82 | F24: 107.73 | G24: ↑ добре | H24: 75.41 | I24: 79 | J24: 84.39 | K24: 87.98 | L24: 89.78 | M24: 6MWT | N24: 0.2 | O24: Толерантність до навантаження
A25: Function | B25: TUG | C25: Timed Up and Go | D25: Мобільність та ризик падінь | E25: 79.09 | F25: 23.73 | G25: ↓ добре | H25: 71.18 | I25: 63.27 | J25: 51.41 | K25: 43.5 | L25: 39.55 | M25: TUG | N25: 0.15 | O25: Мобільність та ризик падінь
A26: Function | B26: Strength | C26: Muscle Strength | D26: М’язова сила | E26: 77.3 | F26: 115.95 | G26: ↑ добре | H26: 81.16 | I26: 85.03 | J26: 90.83 | K26: 94.69 | L26: 96.62 | M26: Strength | N26: 0.15 | O26: М’язова сила
... A34: Trophic | B34: CBCindex | C34: CBC Inflammatory Index | D34: Запальна активність крові | E34: 60.08 | F34: 18.02 | G34: ↓ добре | H34: 54.07 | I34: 48.06 | J34: 39.05 | K34: 33.04 | L34: 30.04 | M34: CBCindex | N34: 0.2 | O34: Запальна активність крові

Sheet 2_Parameter_Scores
A1: Domain | B1: Code | C1: English Name | D1: Український опис | E1: Baseline | F1: Norm | G1: Direction | H1: S5 | I1: S10 | J1: S20 | K1: S40 | L1: S80 | M1: Weight
A2: ='1_Input_5_обстежень_'!A2 -> Pain | B2: ='1_Input_5_обстежень_'!B2 -> VAS | C2: ='1_Input_5_обстежень_'!C2 -> Visual Analog Scale | D2: ='1_Input_5_обстежень_'!D2 -> Візуально-аналогова шкала болю; суб’єктивна оцінка інтенсивності болю | E2: ='1_Input_5_обстежень_'!E2 -> 76.39 | F2: ='1_Input_5_обстежень_'!F2 -> 22.92 | G2: ='1_Input_5_обстежень_'!G2 -> ↓ добре | H2: =IF(G2="↓ добре",MAX(0,MIN(1,(E2-'1_Input_5_обстежень_'!H2)/(E2-F2))),MAX(0,MIN(1,('1_Input_5_обстежень_'!H2-E2)/(F2-E2)))) -> 0.14288386 | I2: =IF(G2="↓ добре",MAX(0,MIN(1,(E2-'1_Input_5_обстежень_'!I2)/(E2-F2))),MAX(0,MIN(1,('1_Input_5_обстежень_'!I2-E2)/(F2-E2)))) -> 0.28576772 | J2: =IF(G2="↓ добре",MAX(0,MIN(1,(E2-'1_Input_5_обстежень_'!J2)/(E2-F2))),MAX(0,MIN(1,('1_Input_5_обстежень_'!J2-E2)/(F2-E2)))) -> 0.50009351 | K2: =IF(G2="↓ добре",MAX(0,MIN(1,(E2-'1_Input_5_обстежень_'!K2)/(E2-F2))),MAX(0,MIN(1,('1_Input_5_обстежень_'!K2-E2)/(F2-E2)))) -> 0.64297737 | L2: =IF(G2="↓ добре",MAX(0,MIN(1,(E2-'1_Input_5_обстежень_'!L2)/(E2-F2))),MAX(0,MIN(1,('1_Input_5_обстежень_'!L2-E2)/(F2-E2)))) -> 0.71423228 | M2: ='1_Input_5_обстежень_'!N2 -> 0.2
A3: ='1_Input_5_обстежень_'!A3 -> Pain | B3: ='1_Input_5_обстежень_'!B3 -> NRS | C3: ='1_Input_5_обстежень_'!C3 -> Numeric Rating Scale | D3: ='1_Input_5_обстежень_'!D3 -> Числова рейтингова шкала болю | E3: ='1_Input_5_обстежень_'!E3 -> 73.59 | F3: ='1_Input_5_обстежень_'!F3 -> 22.08 | G3: ='1_Input_5_обстежень_'!G3 -> ↓ добре | H3: =IF(G3="↓ добре",MAX(0,MIN(1,(E3-'1_Input_5_обстежень_'!H3)/(E3-F3))),MAX(0,MIN(1,('1_Input_5_обстежень_'!H3-E3)/(F3-E3)))) -> 0.14288488 | I3: =IF(G3="↓ добре",MAX(0,MIN(1,(E3-'1_Input_5_обстежень_'!I3)/(E3-F3))),MAX(0,MIN(1,('1_Input_5_обстежень_'!I3-E3)/(F3-E3)))) -> 0.28576975 | J3: =IF(G3="↓ добре",MAX(0,MIN(1,(E3-'1_Input_5_обстежень_'!J3)/(E3-F3))),MAX(0,MIN(1,('1_Input_5_обстежень_'!J3-E3)/(F3-E3)))) -> 0.50009707 | K3: =IF(G3="↓ добре",MAX(0,MIN(1,(E3-'1_Input_5_обстежень_'!K3)/(E3-F3))),MAX(0,MIN(1,('1_Input_5_обстежень_'!K3-E3)/(F3-E3)))) -> 0.64298195 | L3: =IF(G3="↓ добре",MAX(0,MIN(1,(E3-'1_Input_5_обстежень_'!L3)/(E3-F3))),MAX(0,MIN(1,('1_Input_5_обстежень_'!L3-E3)/(F3-E3)))) -> 0.71423025 | M3: ='1_Input_5_обстежень_'!N3 -> 0.15
A4: ='1_Input_5_обстежень_'!A4 -> Pain | B4: ='1_Input_5_обстежень_'!B4 -> BPI | C4: ='1_Input_5_обстежень_'!C4 -> Brief Pain Inventory | D4: ='1_Input_5_обстежень_'!D4 -> Вплив болю на функціонування | E4: ='1_Input_5_обстежень_'!E4 -> 54.99 | F4: ='1_Input_5_обстежень_'!F4 -> 16.5 | G4: ='1_Input_5_обстежень_'!G4 -> ↓ добре | H4: =IF(G4="↓ добре",MAX(0,MIN(1,(E4-'1_Input_5_обстежень_'!H4)/(E4-F4))),MAX(0,MIN(1,('1_Input_5_обстежень_'!H4-E4)/(F4-E4)))) -> 0.14289426 | I4: =IF(G4="↓ добре",MAX(0,MIN(1,(E4-'1_Input_5_обстежень_'!I4)/(E4-F4))),MAX(0,MIN(1,('1_Input_5_обстежень_'!I4-E4)/(F4-E4)))) -> 0.28578852 | J4: =IF(G4="↓ добре",MAX(0,MIN(1,(E4-'1_Input_5_обстежень_'!J4)/(E4-F4))),MAX(0,MIN(1,('1_Input_5_обстежень_'!J4-E4)/(F4-E4)))) -> 0.5001299 | K4: =IF(G4="↓ добре",MAX(0,MIN(1,(E4-'1_Input_5_обстежень_'!K4)/(E4-F4))),MAX(0,MIN(1,('1_Input_5_обстежень_'!K4-E4)/(F4-E4)))) -> 0.64302416 | L4: =IF(G4="↓ добре",MAX(0,MIN(1,(E4-'1_Input_5_обстежень_'!L4)/(E4-F4))),MAX(0,MIN(1,('1_Input_5_обстежень_'!L4-E4)/(F4-E4)))) -> 0.71421148 | M4: ='1_Input_5_обстежень_'!N4 -> 0.2
A5: ='1_Input_5_обстежень_'!A5 -> Pain | B5: ='1_Input_5_обстежень_'!B5 -> DN4 | C5: ='1_Input_5_обстежень_'!C5 -> Douleur Neuropathique 4 | D5: ='1_Input_5_обстежень_'!D5 -> Скринінг нейропатичного болю | E5: ='1_Input_5_обстежень_'!E5 -> 44.58 | F5: ='1_Input_5_обстежень_'!F5 -> 13.37 | G5: ='1_Input_5_обстежень_'!G5 -> ↓ добре | H5: =IF(G5="↓ добре",MAX(0,MIN(1,(E5-'1_Input_5_обстежень_'!H5)/(E5-F5))),MAX(0,MIN(1,('1_Input_5_обстежень_'!H5-E5)/(F5-E5)))) -> 0.14290292 | I5: =IF(G5="↓ добре",MAX(0,MIN(1,(E5-'1_Input_5_обстежень_'!I5)/(E5-F5))),MAX(0,MIN(1,('1_Input_5_обстежень_'!I5-E5)/(F5-E5)))) -> 0.28580583 | J5: =IF(G5="↓ добре",MAX(0,MIN(1,(E5-'1_Input_5_обстежень_'!J5)/(E5-F5))),MAX(0,MIN(1,('1_Input_5_обстежень_'!J5-E5)/(F5-E5)))) -> 0.49983979 | K5: =IF(G5="↓ добре",MAX(0,MIN(1,(E5-'1_Input_5_обстежень_'!K5)/(E5-F5))),MAX(0,MIN(1,('1_Input_5_обстежень_'!K5-E5)/(F5-E5)))) -> 0.64274271 | L5: =IF(G5="↓ добре",MAX(0,MIN(1,(E5-'1_Input_5_обстежень_'!L5)/(E5-F5))),MAX(0,MIN(1,('1_Input_5_обстежень_'!L5-E5)/(F5-E5)))) -> 0.71419417 | M5: ='1_Input_5_обстежень_'!N5 -> 0.1
A6: ='1_Input_5_обстежень_'!A6 -> Pain | B6: ='1_Input_5_обстежень_'!B6 -> PainDETECT | C6: ='1_Input_5_обстежень_'!C6 -> PainDETECT Questionnaire | D6: ='1_Input_5_обстежень_'!D6 -> Ймовірність нейропатичного компоненту болю | E6: ='1_Input_5_обстежень_'!E6 -> 73.2 | F6: ='1_Input_5_обстежень_'!F6 -> 21.96 | G6: ='1_Input_5_обстежень_'!G6 -> ↓ добре | H6: =IF(G6="↓ добре",MAX(0,MIN(1,(E6-'1_Input_5_обстежень_'!H6)/(E6-F6))),MAX(0,MIN(1,('1_Input_5_обстежень_'!H6-E6)/(F6-E6)))) -> 0.14285714 | I6: =IF(G6="↓ добре",MAX(0,MIN(1,(E6-'1_Input_5_обстежень_'!I6)/(E6-F6))),MAX(0,MIN(1,('1_Input_5_обстежень_'!I6-E6)/(F6-E6)))) -> 0.28571429 | J6: =IF(G6="↓ добре",MAX(0,MIN(1,(E6-'1_Input_5_обстежень_'!J6)/(E6-F6))),MAX(0,MIN(1,('1_Input_5_обстежень_'!J6-E6)/(F6-E6)))) -> 0.5 | K6: =IF(G6="↓ добре",MAX(0,MIN(1,(E6-'1_Input_5_обстежень_'!K6)/(E6-F6))),MAX(0,MIN(1,('1_Input_5_обстежень_'!K6-E6)/(F6-E6)))) -> 0.64285714 | L6: =IF(G6="↓ добре",MAX(0,MIN(1,(E6-'1_Input_5_обстежень_'!L6)/(E6-F6))),MAX(0,MIN(1,('1_Input_5_обстежень_'!L6-E6)/(F6-E6)))) -> 0.71428571 | M6: ='1_Input_5_обстежень_'!N6 -> 0.1
A7: ='1_Input_5_обстежень_'!A7 -> Pain | B7: ='1_Input_5_обстежень_'!B7 -> NPSI | C7: ='1_Input_5_обстежень_'!C7 -> Neuropathic Pain Symptom Inventory | D7: ='1_Input_5_обстежень_'!D7 -> Структура нейропатичного болю | E7: ='1_Input_5_обстежень_'!E7 -> 52.14 | F7: ='1_Input_5_обстежень_'!F7 -> 15.64 | G7: ='1_Input_5_обстежень_'!G7 -> ↓ добре | H7: =IF(G7="↓ добре",MAX(0,MIN(1,(E7-'1_Input_5_обстежень_'!H7)/(E7-F7))),MAX(0,MIN(1,('1_Input_5_обстежень_'!H7-E7)/(F7-E7)))) -> 0.14273973 | I7: =IF(G7="↓ добре",MAX(0,MIN(1,(E7-'1_Input_5_обстежень_'!I7)/(E7-F7))),MAX(0,MIN(1,('1_Input_5_обстежень_'!I7-E7)/(F7-E7)))) -> 0.28575342 | J7: =IF(G7="↓ добре",MAX(0,MIN(1,(E7-'1_Input_5_обстежень_'!J7)/(E7-F7))),MAX(0,MIN(1,('1_Input_5_обстежень_'!J7-E7)/(F7-E7)))) -> 0.5 | K7: =IF(G7="↓ добре",MAX(0,MIN(1,(E7-'1_Input_5_обстежень_'!K7)/(E7-F7))),MAX(0,MIN(1,('1_Input_5_обстежень_'!K7-E7)/(F7-E7)))) -> 0.64273973 | L7: =IF(G7="↓ добре",MAX(0,MIN(1,(E7-'1_Input_5_обстежень_'!L7)/(E7-F7))),MAX(0,MIN(1,('1_Input_5_обстежень_'!L7-E7)/(F7-E7)))) -> 0.71424658 | M7: ='1_Input_5_обстежень_'!N7 -> 0.15
A8: ='1_Input_5_обстежень_'!A8 -> Pain | B8: ='1_Input_5_обстежень_'!B8 -> PainDuration | C8: ='1_Input_5_обстежень_'!C8 -> Pain Duration | D8: ='1_Input_5_обстежень_'!D8 -> Тривалість хронічного болю | E8: ='1_Input_5_обстежень_'!E8 -> 66.31 | F8: ='1_Input_5_обстежень_'!F8 -> 19.89 | G8: ='1_Input_5_обстежень_'!G8 -> ↓ добре | H8: =IF(G8="↓ добре",MAX(0,MIN(1,(E8-'1_Input_5_обстежень_'!H8)/(E8-F8))),MAX(0,MIN(1,('1_Input_5_обстежень_'!H8-E8)/(F8-E8)))) -> 0.14282637 | I8: =IF(G8="↓ добре",MAX(0,MIN(1,(E8-'1_Input_5_обстежень_'!I8)/(E8-F8))),MAX(0,MIN(1,('1_Input_5_обстежень_'!I8-E8)/(F8-E8)))) -> 0.28565274 | J8: =IF(G8="↓ добре",MAX(0,MIN(1,(E8-'1_Input_5_обстежень_'!J8)/(E8-F8))),MAX(0,MIN(1,('1_Input_5_обстежень_'!J8-E8)/(F8-E8)))) -> 0.5 | K8: =IF(G8="↓ добре",MAX(0,MIN(1,(E8-'1_Input_5_обстежень_'!K8)/(E8-F8))),MAX(0,MIN(1,('1_Input_5_обстежень_'!K8-E8)/(F8-E8)))) -> 0.64282637 | L8: =IF(G8="↓ добре",MAX(0,MIN(1,(E8-'1_Input_5_обстежень_'!L8)/(E8-F8))),MAX(0,MIN(1,('1_Input_5_обстежень_'!L8-E8)/(F8-E8)))) -> 0.71413184 | M8: ='1_Input_5_обстежень_'!N8 -> 0.1
A9: ='1_Input_5_обстежень_'!A9 -> Neuro | B9: ='1_Input_5_обстежень_'!B9 -> CSI | C9: ='1_Input_5_обстежень_'!C9 -> Central Sensitization Inventory | D9: ='1_Input_5_обстежень_'!D9 -> Ознаки центральної сенситизації | E9: ='1_Input_5_обстежень_'!E9 -> 62.76 | F9: ='1_Input_5_обстежень_'!F9 -> 18.83 | G9: ='1_Input_5_обстежень_'!G9 -> ↓ добре | H9: =IF(G9="↓ добре",MAX(0,MIN(1,(E9-'1_Input_5_обстежень_'!H9)/(E9-F9))),MAX(0,MIN(1,('1_Input_5_обстежень_'!H9-E9)/(F9-E9)))) -> 0.1429547 | I9: =IF(G9="↓ добре",MAX(0,MIN(1,(E9-'1_Input_5_обстежень_'!I9)/(E9-F9))),MAX(0,MIN(1,('1_Input_5_обстежень_'!I9-E9)/(F9-E9)))) -> 0.28568177 | J9: =IF(G9="↓ добре",MAX(0,MIN(1,(E9-'1_Input_5_обстежень_'!J9)/(E9-F9))),MAX(0,MIN(1,('1_Input_5_обстежень_'!J9-E9)/(F9-E9)))) -> 0.50011382 | K9: =IF(G9="↓ добре",MAX(0,MIN(1,(E9-'1_Input_5_обстежень_'!K9)/(E9-F9))),MAX(0,MIN(1,('1_Input_5_обстежень_'!K9-E9)/(F9-E9)))) -> 0.64284088 | L9: =IF(G9="↓ добре",MAX(0,MIN(1,(E9-'1_Input_5_обстежень_'!L9)/(E9-F9))),MAX(0,MIN(1,('1_Input_5_обстежень_'!L9-E9)/(F9-E9)))) -> 0.71431823 | M9: ='1_Input_5_обстежень_'!N9 -> 0.15
A10: ='1_Input_5_обстежень_'!A10 -> Neuro | B10: ='1_Input_5_обстежень_'!B10 -> PCS | C10: ='1_Input_5_обстежень_'!C10 -> Pain Catastrophizing Scale | D10: ='1_Input_5_обстежень_'!D10 -> Катастрофізація болю | E10: ='1_Input_5_обстежень_'!E10 -> 65.83 | F10: ='1_Input_5_обстежень_'!F10 -> 19.75 | G10: ='1_Input_5_обстежень_'!G10 -> ↓ добре | H10: =IF(G10="↓ добре",MAX(0,MIN(1,(E10-'1_Input_5_обстежень_'!H10)/(E10-F10))),MAX(0,MIN(1,('1_Input_5_обстежень_'!H10-E10)/(F10-E10)))) -> 0.14279514 | I10: =IF(G10="↓ добре",MAX(0,MIN(1,(E10-'1_Input_5_обстежень_'!I10)/(E10-F10))),MAX(0,MIN(1,('1_Input_5_обстежень_'!I10-E10)/(F10-E10)))) -> 0.28580729 | J10: =IF(G10="↓ добре",MAX(0,MIN(1,(E10-'1_Input_5_обстежень_'!J10)/(E10-F10))),MAX(0,MIN(1,('1_Input_5_обстежень_'!J10-E10)/(F10-E10)))) -> 0.5 | K10: =IF(G10="↓ добре",MAX(0,MIN(1,(E10-'1_Input_5_обстежень_'!K10)/(E10-F10))),MAX(0,MIN(1,('1_Input_5_обстежень_'!K10-E10)/(F10-E10)))) -> 0.64279514 | L10: =IF(G10="↓ добре",MAX(0,MIN(1,(E10-'1_Input_5_обстежень_'!L10)/(E10-F10))),MAX(0,MIN(1,('1_Input_5_обстежень_'!L10-E10)/(F10-E10)))) -> 0.71440972 | M10: ='1_Input_5_обстежень_'!N10 -> 0.23
A11: ='1_Input_5_обстежень_'!A11 -> Neuro | B11: ='1_Input_5_обстежень_'!B11 -> HADS_A | C11: ='1_Input_5_обстежень_'!C11 -> Hospital Anxiety Scale | D11: ='1_Input_5_обстежень_'!D11 -> Тривожність | E11: ='1_Input_5_обстежень_'!E11 -> 78.5 | F11: ='1_Input_5_обстежень_'!F11 -> 23.55 | G11: ='1_Input_5_обстежень_'!G11 -> ↓ добре | H11: =IF(G11="↓ добре",MAX(0,MIN(1,(E11-'1_Input_5_обстежень_'!H11)/(E11-F11))),MAX(0,MIN(1,('1_Input_5_обстежень_'!H11-E11)/(F11-E11)))) -> 0.14285714 | I11: =IF(G11="↓ добре",MAX(0,MIN(1,(E11-'1_Input_5_обстежень_'!I11)/(E11-F11))),MAX(0,MIN(1,('1_Input_5_обстежень_'!I11-E11)/(F11-E11)))) -> 0.28571429 | J11: =IF(G11="↓ добре",MAX(0,MIN(1,(E11-'1_Input_5_обстежень_'!J11)/(E11-F11))),MAX(0,MIN(1,('1_Input_5_обстежень_'!J11-E11)/(F11-E11)))) -> 0.50009099 | K11: =IF(G11="↓ добре",MAX(0,MIN(1,(E11-'1_Input_5_обстежень_'!K11)/(E11-F11))),MAX(0,MIN(1,('1_Input_5_обстежень_'!K11-E11)/(F11-E11)))) -> 0.64276615 | L11: =IF(G11="↓ добре",MAX(0,MIN(1,(E11-'1_Input_5_обстежень_'!L11)/(E11-F11))),MAX(0,MIN(1,('1_Input_5_обстежень_'!L11-E11)/(F11-E11)))) -> 0.71428571 | M11: ='1_Input_5_обстежень_'!N11 -> 0.1
A12: ='1_Input_5_обстежень_'!A12 -> Neuro | B12: ='1_Input_5_обстежень_'!B12 -> HADS_D | C12: ='1_Input_5_обстежень_'!C12 -> Hospital Depression Scale | D12: ='1_Input_5_обстежень_'!D12 -> Депресія | E12: ='1_Input_5_обстежень_'!E12 -> 73.05 | F12: ='1_Input_5_обстежень_'!F12 -> 21.91 | G12: ='1_Input_5_обстежень_'!G12 -> ↓ добре | H12: =IF(G12="↓ добре",MAX(0,MIN(1,(E12-'1_Input_5_обстежень_'!H12)/(E12-F12))),MAX(0,MIN(1,('1_Input_5_обстежень_'!H12-E12)/(F12-E12)))) -> 0.1427454 | I12: =IF(G12="↓ добре",MAX(0,MIN(1,(E12-'1_Input_5_обстежень_'!I12)/(E12-F12))),MAX(0,MIN(1,('1_Input_5_обстежень_'!I12-E12)/(F12-E12)))) -> 0.28568635 | J12: =IF(G12="↓ добре",MAX(0,MIN(1,(E12-'1_Input_5_обстежень_'!J12)/(E12-F12))),MAX(0,MIN(1,('1_Input_5_обстежень_'!J12-E12)/(F12-E12)))) -> 0.5 | K12: =IF(G12="↓ добре",MAX(0,MIN(1,(E12-'1_Input_5_обстежень_'!K12)/(E12-F12))),MAX(0,MIN(1,('1_Input_5_обстежень_'!K12-E12)/(F12-E12)))) -> 0.6427454 | L12: =IF(G12="↓ добре",MAX(0,MIN(1,(E12-'1_Input_5_обстежень_'!L12)/(E12-F12))),MAX(0,MIN(1,('1_Input_5_обстежень_'!L12-E12)/(F12-E12)))) -> 0.71431365 | M12: ='1_Input_5_обстежень_'!N12 -> 0.1
A13: ='1_Input_5_обстежень_'!A13 -> Neuro | B13: ='1_Input_5_обстежень_'!B13 -> PCL5 | C13: ='1_Input_5_обстежень_'!C13 -> PTSD Checklist DSM-5 | D13: ='1_Input_5_обстежень_'!D13 -> Вираженість ПТСР | E13: ='1_Input_5_обстежень_'!E13 -> 65.28 | F13: ='1_Input_5_обстежень_'!F13 -> 19.58 | G13: ='1_Input_5_обстежень_'!G13 -> ↓ добре | H13: =IF(G13="↓ добре",MAX(0,MIN(1,(E13-'1_Input_5_обстежень_'!H13)/(E13-F13))),MAX(0,MIN(1,('1_Input_5_обстежень_'!H13-E13)/(F13-E13)))) -> 0.1428884 | I13: =IF(G13="↓ добре",MAX(0,MIN(1,(E13-'1_Input_5_обстежень_'!I13)/(E13-F13))),MAX(0,MIN(1,('1_Input_5_обстежень_'!I13-E13)/(F13-E13)))) -> 0.28577681 | J13: =IF(G13="↓ добре",MAX(0,MIN(1,(E13-'1_Input_5_обстежень_'!J13)/(E13-F13))),MAX(0,MIN(1,('1_Input_5_обстежень_'!J13-E13)/(F13-E13)))) -> 0.5 | K13: =IF(G13="↓ добре",MAX(0,MIN(1,(E13-'1_Input_5_обстежень_'!K13)/(E13-F13))),MAX(0,MIN(1,('1_Input_5_обстежень_'!K13-E13)/(F13-E13)))) -> 0.6428884 | L13: =IF(G13="↓ добре",MAX(0,MIN(1,(E13-'1_Input_5_обстежень_'!L13)/(E13-F13))),MAX(0,MIN(1,('1_Input_5_обстежень_'!L13-E13)/(F13-E13)))) -> 0.71422319 | M13: ='1_Input_5_обстежень_'!N13 -> 0.18
... A34: ='1_Input_5_обстежень_'!A34 -> Trophic | B34: ='1_Input_5_обстежень_'!B34 -> CBCindex | C34: ='1_Input_5_обстежень_'!C34 -> CBC Inflammatory Index | D34: ='1_Input_5_обстежень_'!D34 -> Запальна активність крові | E34: ='1_Input_5_обстежень_'!E34 -> 60.08 | F34: ='1_Input_5_обстежень_'!F34 -> 18.02 | G34: ='1_Input_5_обстежень_'!G34 -> ↓ добре | H34: =IF(G34="↓ добре",MAX(0,MIN(1,(E34-'1_Input_5_обстежень_'!H34)/(E34-F34))),MAX(0,MIN(1,('1_Input_5_обстежень_'!H34-E34)/(F34-E34)))) -> 0.14289111 | I34: =IF(G34="↓ добре",MAX(0,MIN(1,(E34-'1_Input_5_обстежень_'!I34)/(E34-F34))),MAX(0,MIN(1,('1_Input_5_обстежень_'!I34-E34)/(F34-E34)))) -> 0.28578222 | J34: =IF(G34="↓ добре",MAX(0,MIN(1,(E34-'1_Input_5_обстежень_'!J34)/(E34-F34))),MAX(0,MIN(1,('1_Input_5_обстежень_'!J34-E34)/(F34-E34)))) -> 0.5 | K34: =IF(G34="↓ добре",MAX(0,MIN(1,(E34-'1_Input_5_обстежень_'!K34)/(E34-F34))),MAX(0,MIN(1,('1_Input_5_обстежень_'!K34-E34)/(F34-E34)))) -> 0.64289111 | L34: =IF(G34="↓ добре",MAX(0,MIN(1,(E34-'1_Input_5_обстежень_'!L34)/(E34-F34))),MAX(0,MIN(1,('1_Input_5_обстежень_'!L34-E34)/(F34-E34)))) -> 0.71421778 | M34: ='1_Input_5_обстежень_'!N34 -> 0.2

Sheet 3_коефіцієнти_розширеного_аналі
B1: Domain | C1: Parameter | D1: Baseline | E1: Norm | F1: Dir | G1: Day5 | H1: Day10 | I1: Day20 | J1: Day40 | K1: Day80 | L1: S5 | M1: S10 | N1: S20 | O1: S40 | P1: S80 | R1: вага в домені | S1: ProposedWeight | T1: Англійська назва | U1: Українська назва | V1: Що оцінює | X1: Англійська назва | Y1: Українська назва | Z1: Що оцінює
B2: Pain | C2: VAS | D2: 69 | E2: 20 | F2: DOWN | G2: 67.89 | H2: 58.26 | I2: 49.95 | J2: 34.99 | K2: 29.01 | L2: =IF($F2="DOWN",MAX(0,MIN(1,($D2-G2)/($D2-$E2))),MAX(0,MIN(1,(G2-$D2)/($E2-$D2)))) -> 0.022653061 | M2: =IF($F2="DOWN",MAX(0,MIN(1,($D2-H2)/($D2-$E2))),MAX(0,MIN(1,(H2-$D2)/($E2-$D2)))) -> 0.21918367 | N2: =IF($F2="DOWN",MAX(0,MIN(1,($D2-I2)/($D2-$E2))),MAX(0,MIN(1,(I2-$D2)/($E2-$D2)))) -> 0.38877551 | O2: =IF($F2="DOWN",MAX(0,MIN(1,($D2-J2)/($D2-$E2))),MAX(0,MIN(1,(J2-$D2)/($E2-$D2)))) -> 0.69408163 | P2: =IF($F2="DOWN",MAX(0,MIN(1,($D2-K2)/($D2-$E2))),MAX(0,MIN(1,(K2-$D2)/($E2-$D2)))) -> 0.81612245 | Q2: VAS | R2: 0.2 | S2: 0.11 | T2: Visual Analog Scale | U2: Візуально-аналогова шкала болю | V2: Суб'єктивна інтенсивність болю | X2: Visual Analog Scale | Y2: Візуально-аналогова шкала болю | Z2: Суб'єктивна інтенсивність болю
B3: Pain | C3: NRS | D3: 67 | E3: 20 | F3: DOWN | G3: 64.51 | H3: 53.58 | I3: 48.46 | J3: 36.8 | K3: 26.41 | L3: =IF($F3="DOWN",MAX(0,MIN(1,($D3-G3)/($D3-$E3))),MAX(0,MIN(1,(G3-$D3)/($E3-$D3)))) -> 0.052978723 | M3: =IF($F3="DOWN",MAX(0,MIN(1,($D3-H3)/($D3-$E3))),MAX(0,MIN(1,(H3-$D3)/($E3-$D3)))) -> 0.28553191 | N3: =IF($F3="DOWN",MAX(0,MIN(1,($D3-I3)/($D3-$E3))),MAX(0,MIN(1,(I3-$D3)/($E3-$D3)))) -> 0.39446809 | O3: =IF($F3="DOWN",MAX(0,MIN(1,($D3-J3)/($D3-$E3))),MAX(0,MIN(1,(J3-$D3)/($E3-$D3)))) -> 0.64255319 | P3: =IF($F3="DOWN",MAX(0,MIN(1,($D3-K3)/($D3-$E3))),MAX(0,MIN(1,(K3-$D3)/($E3-$D3)))) -> 0.86361702 | Q3: NRS | R3: 0.15 | S3: 0.17 | T3: Numeric Rating Scale | U3: Числова рейтингова шкала болю | V3: Інтенсивність болю за 11-бальною шкалою | X3: Numeric Rating Scale | Y3: Числова рейтингова шкала болю | Z3: Інтенсивність болю за 11-бальною шкалою
B4: Pain | C4: BPI | D4: 71 | E4: 21 | F4: DOWN | G4: 69.68 | H4: 59.33 | I4: 54.01 | J4: 51.33 | K4: 41.96 | L4: =IF($F4="DOWN",MAX(0,MIN(1,($D4-G4)/($D4-$E4))),MAX(0,MIN(1,(G4-$D4)/($E4-$D4)))) -> 0.0264 | M4: =IF($F4="DOWN",MAX(0,MIN(1,($D4-H4)/($D4-$E4))),MAX(0,MIN(1,(H4-$D4)/($E4-$D4)))) -> 0.2334 | N4: =IF($F4="DOWN",MAX(0,MIN(1,($D4-I4)/($D4-$E4))),MAX(0,MIN(1,(I4-$D4)/($E4-$D4)))) -> 0.3398 | O4: =IF($F4="DOWN",MAX(0,MIN(1,($D4-J4)/($D4-$E4))),MAX(0,MIN(1,(J4-$D4)/($E4-$D4)))) -> 0.3934 | P4: =IF($F4="DOWN",MAX(0,MIN(1,($D4-K4)/($D4-$E4))),MAX(0,MIN(1,(K4-$D4)/($E4-$D4)))) -> 0.5808 | Q4: BPI | R4: 0.2 | S4: 0.08 | T4: Brief Pain Inventory | U4: Короткий опитувальник болю | V4: Вплив болю на повсякденне функціонування | X4: Brief Pain Inventory | Y4: Короткий опитувальник болю | Z4: Вплив болю на повсякденне функціонування
B5: Pain | C5: DN4 | D5: 63 | E5: 18 | F5: DOWN | G5: 61.71 | H5: 46.46 | I5: 38.8 | J5: 33.84 | K5: 29.22 | L5: =IF($F5="DOWN",MAX(0,MIN(1,($D5-G5)/($D5-$E5))),MAX(0,MIN(1,(G5-$D5)/($E5-$D5)))) -> 0.028666667 | M5: =IF($F5="DOWN",MAX(0,MIN(1,($D5-H5)/($D5-$E5))),MAX(0,MIN(1,(H5-$D5)/($E5-$D5)))) -> 0.36755556 | N5: =IF($F5="DOWN",MAX(0,MIN(1,($D5-I5)/($D5-$E5))),MAX(0,MIN(1,(I5-$D5)/($E5-$D5)))) -> 0.53777778 | O5: =IF($F5="DOWN",MAX(0,MIN(1,($D5-J5)/($D5-$E5))),MAX(0,MIN(1,(J5-$D5)/($E5-$D5)))) -> 0.648 | P5: =IF($F5="DOWN",MAX(0,MIN(1,($D5-K5)/($D5-$E5))),MAX(0,MIN(1,(K5-$D5)/($E5-$D5)))) -> 0.75066667 | Q5: DN4 | R5: 0.1 | S5: 0.07 | T5: Douleur Neuropathique 4 | U5: Опитувальник нейропатичного болю DN4 | V5: Ймовірність нейропатичного компонента болю | X5: Douleur Neuropathique 4 | Y5: Опитувальник нейропатичного болю DN4 | Z5: Ймовірність нейропатичного компонента болю
B6: Pain | C6: PainDETECT | D6: 51 | E6: 15 | F6: DOWN | G6: 46.79 | H6: 43.27 | I6: 35.74 | J6: 21.76 | K6: 18.24 | L6: =IF($F6="DOWN",MAX(0,MIN(1,($D6-G6)/($D6-$E6))),MAX(0,MIN(1,(G6-$D6)/($E6-$D6)))) -> 0.11694444 | M6: =IF($F6="DOWN",MAX(0,MIN(1,($D6-H6)/($D6-$E6))),MAX(0,MIN(1,(H6-$D6)/($E6-$D6)))) -> 0.21472222 | N6: =IF($F6="DOWN",MAX(0,MIN(1,($D6-I6)/($D6-$E6))),MAX(0,MIN(1,(I6-$D6)/($E6-$D6)))) -> 0.42388889 | O6: =IF($F6="DOWN",MAX(0,MIN(1,($D6-J6)/($D6-$E6))),MAX(0,MIN(1,(J6-$D6)/($E6-$D6)))) -> 0.81222222 | P6: =IF($F6="DOWN",MAX(0,MIN(1,($D6-K6)/($D6-$E6))),MAX(0,MIN(1,(K6-$D6)/($E6-$D6)))) -> 0.91 | Q6: PainDETECT | R6: 0.1 | S6: 0.11 | T6: PainDETECT Questionnaire | U6: Опитувальник PainDETECT | V6: Скринінг нейропатичного болю | X6: PainDETECT Questionnaire | Y6: Опитувальник PainDETECT | Z6: Скринінг нейропатичного болю
B7: Pain | C7: NPSI | D7: 68 | E7: 20 | F7: DOWN | G7: 58.3 | H7: 53.48 | I7: 39.04 | J7: 36.49 | K7: 27.44 | L7: =IF($F7="DOWN",MAX(0,MIN(1,($D7-G7)/($D7-$E7))),MAX(0,MIN(1,(G7-$D7)/($E7-$D7)))) -> 0.20208333 | M7: =IF($F7="DOWN",MAX(0,MIN(1,($D7-H7)/($D7-$E7))),MAX(0,MIN(1,(H7-$D7)/($E7-$D7)))) -> 0.3025 | N7: =IF($F7="DOWN",MAX(0,MIN(1,($D7-I7)/($D7-$E7))),MAX(0,MIN(1,(I7-$D7)/($E7-$D7)))) -> 0.60333333 | O7: =IF($F7="DOWN",MAX(0,MIN(1,($D7-J7)/($D7-$E7))),MAX(0,MIN(1,(J7-$D7)/($E7-$D7)))) -> 0.65645833 | P7: =IF($F7="DOWN",MAX(0,MIN(1,($D7-K7)/($D7-$E7))),MAX(0,MIN(1,(K7-$D7)/($E7-$D7)))) -> 0.845 | Q7: NPSI | R7: 0.15 | S7: 0.17 | T7: Neuropathic Pain Symptom Inventory | U7: Інвентар симптомів нейропатичного болю | V7: Структура та прояви нейропатичного болю | X7: Neuropathic Pain Symptom Inventory | Y7: Інвентар симптомів нейропатичного болю | Z7: Структура та прояви нейропатичного болю
B8: Pain | C8: PainDuration | D8: 58 | E8: 17 | F8: DOWN | G8: 50.75 | H8: 42.28 | I8: 36.97 | J8: 27.61 | K8: 28.02 | L8: =IF($F8="DOWN",MAX(0,MIN(1,($D8-G8)/($D8-$E8))),MAX(0,MIN(1,(G8-$D8)/($E8-$D8)))) -> 0.17682927 | M8: =IF($F8="DOWN",MAX(0,MIN(1,($D8-H8)/($D8-$E8))),MAX(0,MIN(1,(H8-$D8)/($E8-$D8)))) -> 0.38341463 | N8: =IF($F8="DOWN",MAX(0,MIN(1,($D8-I8)/($D8-$E8))),MAX(0,MIN(1,(I8-$D8)/($E8-$D8)))) -> 0.51292683 | O8: =IF($F8="DOWN",MAX(0,MIN(1,($D8-J8)/($D8-$E8))),MAX(0,MIN(1,(J8-$D8)/($E8-$D8)))) -> 0.74121951 | P8: =IF($F8="DOWN",MAX(0,MIN(1,($D8-K8)/($D8-$E8))),MAX(0,MIN(1,(K8-$D8)/($E8-$D8)))) -> 0.73121951 | Q8: PainDuration | R8: 0.1 | S8: 0.24 | T8: Pain Duration | U8: Тривалість больового синдрому | V8: Хронізація болю | X8: Pain Duration | Y8: Тривалість больового синдрому | Z8: Хронізація болю
B9: Neuro | C9: CSI | D9: 55 | E9: 16 | F9: DOWN | G9: 52.64 | H9: 50.26 | I9: 43.05 | J9: 38.51 | K9: 32.52 | L9: =IF($F9="DOWN",MAX(0,MIN(1,($D9-G9)/($D9-$E9))),MAX(0,MIN(1,(G9-$D9)/($E9-$D9)))) -> 0.060512821 | M9: =IF($F9="DOWN",MAX(0,MIN(1,($D9-H9)/($D9-$E9))),MAX(0,MIN(1,(H9-$D9)/($E9-$D9)))) -> 0.12153846 | N9: =IF($F9="DOWN",MAX(0,MIN(1,($D9-I9)/($D9-$E9))),MAX(0,MIN(1,(I9-$D9)/($E9-$D9)))) -> 0.30641026 | O9: =IF($F9="DOWN",MAX(0,MIN(1,($D9-J9)/($D9-$E9))),MAX(0,MIN(1,(J9-$D9)/($E9-$D9)))) -> 0.42282051 | P9: =IF($F9="DOWN",MAX(0,MIN(1,($D9-K9)/($D9-$E9))),MAX(0,MIN(1,(K9-$D9)/($E9-$D9)))) -> 0.57641026 | Q9: CSI | R9: 0.1636 | S9: 0.2 | T9: Central Sensitization Inventory | U9: Індекс центральної сенситизації | V9: Ознаки ноципластичного болю та центральної сенситизації | X9: Central Sensitization Inventory | Y9: Індекс центральної сенситизації | Z9: Ознаки ноципластичного болю та центральної сенситизації
B10: Neuro | C10: PCS | D10: 74 | E10: 22 | F10: DOWN | G10: 68.6 | H10: 61.44 | I10: 54 | J10: 43.83 | K10: 28.38 | L10: =IF($F10="DOWN",MAX(0,MIN(1,($D10-G10)/($D10-$E10))),MAX(0,MIN(1,(G10-$D10)/($E10-$D10)))) -> 0.10384615 | M10: =IF($F10="DOWN",MAX(0,MIN(1,($D10-H10)/($D10-$E10))),MAX(0,MIN(1,(H10-$D10)/($E10-$D10)))) -> 0.24153846 | N10: =IF($F10="DOWN",MAX(0,MIN(1,($D10-I10)/($D10-$E10))),MAX(0,MIN(1,(I10-$D10)/($E10-$D10)))) -> 0.38461538 | O10: =IF($F10="DOWN",MAX(0,MIN(1,($D10-J10)/($D10-$E10))),MAX(0,MIN(1,(J10-$D10)/($E10-$D10)))) -> 0.58019231 | P10: =IF($F10="DOWN",MAX(0,MIN(1,($D10-K10)/($D10-$E10))),MAX(0,MIN(1,(K10-$D10)/($E10-$D10)))) -> 0.87730769 | Q10: PCS | R10: 0.0909 | S10: 0.21 | T10: Pain Catastrophizing Scale | U10: Шкала катастрофізації болю | V10: Негативні когнітивні очікування щодо болю | X10: Pain Catastrophizing Scale | Y10: Шкала катастрофізації болю | Z10: Негативні когнітивні очікування щодо болю
B11: Neuro | C11: HADS_A | D11: 73 | E11: 21 | F11: DOWN | G11: 64.51 | H11: 62.85 | I11: 46.38 | J11: 43.93 | K11: 34.11 | L11: =IF($F11="DOWN",MAX(0,MIN(1,($D11-G11)/($D11-$E11))),MAX(0,MIN(1,(G11-$D11)/($E11-$D11)))) -> 0.16326923 | M11: =IF($F11="DOWN",MAX(0,MIN(1,($D11-H11)/($D11-$E11))),MAX(0,MIN(1,(H11-$D11)/($E11-$D11)))) -> 0.19519231 | N11: =IF($F11="DOWN",MAX(0,MIN(1,($D11-I11)/($D11-$E11))),MAX(0,MIN(1,(I11-$D11)/($E11-$D11)))) -> 0.51192308 | O11: =IF($F11="DOWN",MAX(0,MIN(1,($D11-J11)/($D11-$E11))),MAX(0,MIN(1,(J11-$D11)/($E11-$D11)))) -> 0.55903846 | P11: =IF($F11="DOWN",MAX(0,MIN(1,($D11-K11)/($D11-$E11))),MAX(0,MIN(1,(K11-$D11)/($E11-$D11)))) -> 0.74788462 | Q11: HADS_A | R11: 0.0909 | S11: 0.08 | T11: Hospital Anxiety and Depression Scale – Anxiety | U11: Госпітальна шкала тривоги (підшкала тривоги) | V11: Рівень тривожності | X11: Hospital Anxiety and Depression Scale – Anxiety | Y11: Госпітальна шкала тривоги (підшкала тривоги) | Z11: Рівень тривожності
B12: Neuro | C12: HADS_D | D12: 47 | E12: 14 | F12: DOWN | G12: 40.67 | H12: 36.11 | I12: 28.14 | J12: 19.93 | K12: 15.24 | L12: =IF($F12="DOWN",MAX(0,MIN(1,($D12-G12)/($D12-$E12))),MAX(0,MIN(1,(G12-$D12)/($E12-$D12)))) -> 0.19181818 | M12: =IF($F12="DOWN",MAX(0,MIN(1,($D12-H12)/($D12-$E12))),MAX(0,MIN(1,(H12-$D12)/($E12-$D12)))) -> 0.33 | N12: =IF($F12="DOWN",MAX(0,MIN(1,($D12-I12)/($D12-$E12))),MAX(0,MIN(1,(I12-$D12)/($E12-$D12)))) -> 0.57151515 | O12: =IF($F12="DOWN",MAX(0,MIN(1,($D12-J12)/($D12-$E12))),MAX(0,MIN(1,(J12-$D12)/($E12-$D12)))) -> 0.82030303 | P12: =IF($F12="DOWN",MAX(0,MIN(1,($D12-K12)/($D12-$E12))),MAX(0,MIN(1,(K12-$D12)/($E12-$D12)))) -> 0.96242424 | Q12: HADS_D | R12: 0.0909 | S12: 0.25 | T12: Hospital Anxiety and Depression Scale – Depression | U12: Госпітальна шкала депресії (підшкала депресії) | V12: Рівень депресії | X12: Hospital Anxiety and Depression Scale – Depression | Y12: Госпітальна шкала депресії (підшкала депресії) | Z12: Рівень депресії
B13: Neuro | C13: PCL5 | D13: 65 | E13: 19 | F13: DOWN | G13: 65.05 | H13: 56.81 | I13: 50.51 | J13: 44.32 | K13: 31.12 | L13: =IF($F13="DOWN",MAX(0,MIN(1,($D13-G13)/($D13-$E13))),MAX(0,MIN(1,(G13-$D13)/($E13-$D13)))) -> 0 | M13: =IF($F13="DOWN",MAX(0,MIN(1,($D13-H13)/($D13-$E13))),MAX(0,MIN(1,(H13-$D13)/($E13-$D13)))) -> 0.17804348 | N13: =IF($F13="DOWN",MAX(0,MIN(1,($D13-I13)/($D13-$E13))),MAX(0,MIN(1,(I13-$D13)/($E13-$D13)))) -> 0.315 | O13: =IF($F13="DOWN",MAX(0,MIN(1,($D13-J13)/($D13-$E13))),MAX(0,MIN(1,(J13-$D13)/($E13-$D13)))) -> 0.44956522 | P13: =IF($F13="DOWN",MAX(0,MIN(1,($D13-K13)/($D13-$E13))),MAX(0,MIN(1,(K13-$D13)/($E13-$D13)))) -> 0.73652174 | Q13: PCL5 | R13: 0.1636 | S13: 0.15 | T13: PTSD Checklist for DSM-5 | U13: Контрольний список симптомів ПТСР DSM-5 | V13: Вираженість посттравматичного стресового розладу | X13: PTSD Checklist for DSM-5 | Y13: Контрольний список симптомів ПТСР DSM-5 | Z13: Вираженість посттравматичного стресового розладу
... B49: Lab | C49: MedicationLoad | D49: 64 | E49: 19 | F49: DOWN | G49: 60.42 | H49: 51.86 | I49: 39.19 | J49: 31.65 | K49: 33.66 | L49: =IF($F49="DOWN",MAX(0,MIN(1,($D49-G49)/($D49-$E49))),MAX(0,MIN(1,(G49-$D49)/($E49-$D49)))) -> 0.079555556 | M49: =IF($F49="DOWN",MAX(0,MIN(1,($D49-H49)/($D49-$E49))),MAX(0,MIN(1,(H49-$D49)/($E49-$D49)))) -> 0.26977778 | N49: =IF($F49="DOWN",MAX(0,MIN(1,($D49-I49)/($D49-$E49))),MAX(0,MIN(1,(I49-$D49)/($E49-$D49)))) -> 0.55133333 | O49: =IF($F49="DOWN",MAX(0,MIN(1,($D49-J49)/($D49-$E49))),MAX(0,MIN(1,(J49-$D49)/($E49-$D49)))) -> 0.71888889 | P49: =IF($F49="DOWN",MAX(0,MIN(1,($D49-K49)/($D49-$E49))),MAX(0,MIN(1,(K49-$D49)/($E49-$D49)))) -> 0.67422222 | Q49: MedicationLoad | R49: 0.3 | S49: 0.12 | T49: Medication Burden | U49: Медикаментозне навантаження | V49: Інтенсивність фармакотерапії | X49: Medication Burden | Y49: Медикаментозне навантаження | Z49: Інтенсивність фармакотерапії

Sheet 5_Mechanistic
A1: МЕХАНІСТИЧНИЙ ІНДЕКС (MI) — розрахунок за повним або експрес-обстеженням
A2: Індекс агрегує лише ті показники, що відображають МЕХАНІЗМ дії втручання (центральна сенситизація, автономна регуляція, запалення, тканинна перфузія й оксигенація, біомеханіка). Ваги автоматично перенормовуються на фактично доступні маркери — тому індекс залишається порівнянним і при повному (48 показників, лист 3), і при скороченому (33 показники, лист 2) обстеженні.
A4: РЕЖИМ ДЖЕРЕЛА ДАНИХ → | C4: АВТО | D4: АВТО — брати з повного обстеження, а за відсутності показника автоматично підставляти з експрес-обстеження. ПОВНЕ — лише лист 3. ЕКСПРЕС — лише лист 2. (жовта комірка — редагується лікарем)
A6: Маркер (код) | B6: Що відображає механістично | C6: Задана вага | D6: Напрямок корисної зміни | E6: Фактичне джерело даних | F6: S5 | G6: S10 | H6: S20 | I6: S40 | J6: S80 | K6: Дост. (1/0) | L6: Ефективна вага | M6: Рівень доказовості маркера
A7: CSI | B7: Центральна сенситизація (ноципластичний механізм) | C7: 0.2 | D7: ↓ зниження | E7: =IF($C$4="ЕКСПРЕС",IF(ISNUMBER(MATCH($A7,'2_Parameter_Scores'!$B$2:$B$34,0)),"Експрес (лист 2)","— немає"),IF($C$4="ПОВНЕ",IF(ISNUMBER(MATCH($A7,'3_коефіцієнти_розширеного_аналі'!$C$2:$C$49,0)),"Повне (лист 3)","— немає"),IF(ISNUMBER(MATCH($A7,'3_коефіцієнти_розширеного_аналі'!$C$2:$C$49,0)),"Повне (лист 3)",IF(ISNUMBER(MATCH($A7,'2_Parameter_Scores'!$B$2:$B$34,0)),"Експрес (лист 2)","— немає")))) -> Повне (лист 3) | F7: =IFERROR(IF($C$4="ЕКСПРЕС",INDEX('2_Parameter_Scores'!$H$2:$H$34,MATCH($A7,'2_Parameter_Scores'!$B$2:$B$34,0)),IF($C$4="ПОВНЕ",INDEX('3_коефіцієнти_розширеного_аналі'!$L$2:$L$49,MATCH($A7,'3_коефіцієнти_розширеного_аналі'!$C$2:$C$49,0)),IFERROR(INDEX('3_коефіцієнти_розширеного_аналі'!$L$2:$L$49,MATCH($A7,'3_коефіцієнти_розширеного_аналі'!$C$2:$C$49,0)),INDEX('2_Parameter_Scores'!$H$2:$H$34,MATCH($A7,'2_Parameter_Scores'!$B$2:$B$34,0))))),0) -> 0.060512821 | G7: =IFERROR(IF($C$4="ЕКСПРЕС",INDEX('2_Parameter_Scores'!$I$2:$I$34,MATCH($A7,'2_Parameter_Scores'!$B$2:$B$34,0)),IF($C$4="ПОВНЕ",INDEX('3_коефіцієнти_розширеного_аналі'!$M$2:$M$49,MATCH($A7,'3_коефіцієнти_розширеного_аналі'!$C$2:$C$49,0)),IFERROR(INDEX('3_коефіцієнти_розширеного_аналі'!$M$2:$M$49,MATCH($A7,'3_коефіцієнти_розширеного_аналі'!$C$2:$C$49,0)),INDEX('2_Parameter_Scores'!$I$2:$I$34,MATCH($A7,'2_Parameter_Scores'!$B$2:$B$34,0))))),0) -> 0.12153846 | H7: =IFERROR(IF($C$4="ЕКСПРЕС",INDEX('2_Parameter_Scores'!$J$2:$J$34,MATCH($A7,'2_Parameter_Scores'!$B$2:$B$34,0)),IF($C$4="ПОВНЕ",INDEX('3_коефіцієнти_розширеного_аналі'!$N$2:$N$49,MATCH($A7,'3_коефіцієнти_розширеного_аналі'!$C$2:$C$49,0)),IFERROR(INDEX('3_коефіцієнти_розширеного_аналі'!$N$2:$N$49,MATCH($A7,'3_коефіцієнти_розширеного_аналі'!$C$2:$C$49,0)),INDEX('2_Parameter_Scores'!$J$2:$J$34,MATCH($A7,'2_Parameter_Scores'!$B$2:$B$34,0))))),0) -> 0.30641026 | I7: =IFERROR(IF($C$4="ЕКСПРЕС",INDEX('2_Parameter_Scores'!$K$2:$K$34,MATCH($A7,'2_Parameter_Scores'!$B$2:$B$34,0)),IF($C$4="ПОВНЕ",INDEX('3_коефіцієнти_розширеного_аналі'!$O$2:$O$49,MATCH($A7,'3_коефіцієнти_розширеного_аналі'!$C$2:$C$49,0)),IFERROR(INDEX('3_коефіцієнти_розширеного_аналі'!$O$2:$O$49,MATCH($A7,'3_коефіцієнти_розширеного_аналі'!$C$2:$C$49,0)),INDEX('2_Parameter_Scores'!$K$2:$K$34,MATCH($A7,'2_Parameter_Scores'!$B$2:$B$34,0))))),0) -> 0.42282051 | J7: =IFERROR(IF($C$4="ЕКСПРЕС",INDEX('2_Parameter_Scores'!$L$2:$L$34,MATCH($A7,'2_Parameter_Scores'!$B$2:$B$34,0)),IF($C$4="ПОВНЕ",INDEX('3_коефіцієнти_розширеного_аналі'!$P$2:$P$49,MATCH($A7,'3_коефіцієнти_розширеного_аналі'!$C$2:$C$49,0)),IFERROR(INDEX('3_коефіцієнти_розширеного_аналі'!$P$2:$P$49,MATCH($A7,'3_коефіцієнти_розширеного_аналі'!$C$2:$C$49,0)),INDEX('2_Parameter_Scores'!$L$2:$L$34,MATCH($A7,'2_Parameter_Scores'!$B$2:$B$34,0))))),0) -> 0.57641026 | K7: =IF(LEFT($E7,1)="—",0,1) -> 1 | L7: =IF($K7=0,0,$C7/SUMPRODUCT($C$7:$C$14,$K$7:$K$14)) -> 0.18181818 | M7: Валідований опитувальник (Mayer 2012)
A8: RMSSD | B8: Парасимпатична регуляція | C8: 0.15 | D8: ↑ зростання | E8: =IF($C$4="ЕКСПРЕС",IF(ISNUMBER(MATCH($A8,'2_Parameter_Scores'!$B$2:$B$34,0)),"Експрес (лист 2)","— немає"),IF($C$4="ПОВНЕ",IF(ISNUMBER(MATCH($A8,'3_коефіцієнти_розширеного_аналі'!$C$2:$C$49,0)),"Повне (лист 3)","— немає"),IF(ISNUMBER(MATCH($A8,'3_коефіцієнти_розширеного_аналі'!$C$2:$C$49,0)),"Повне (лист 3)",IF(ISNUMBER(MATCH($A8,'2_Parameter_Scores'!$B$2:$B$34,0)),"Експрес (лист 2)","— немає")))) -> Повне (лист 3) | F8: =IFERROR(IF($C$4="ЕКСПРЕС",INDEX('2_Parameter_Scores'!$H$2:$H$34,MATCH($A8,'2_Parameter_Scores'!$B$2:$B$34,0)),IF($C$4="ПОВНЕ",INDEX('3_коефіцієнти_розширеного_аналі'!$L$2:$L$49,MATCH($A8,'3_коефіцієнти_розширеного_аналі'!$C$2:$C$49,0)),IFERROR(INDEX('3_коефіцієнти_розширеного_аналі'!$L$2:$L$49,MATCH($A8,'3_коефіцієнти_розширеного_аналі'!$C$2:$C$49,0)),INDEX('2_Parameter_Scores'!$H$2:$H$34,MATCH($A8,'2_Parameter_Scores'!$B$2:$B$34,0))))),0) -> 0.15371429 | G8: =IFERROR(IF($C$4="ЕКСПРЕС",INDEX('2_Parameter_Scores'!$I$2:$I$34,MATCH($A8,'2_Parameter_Scores'!$B$2:$B$34,0)),IF($C$4="ПОВНЕ",INDEX('3_коефіцієнти_розширеного_аналі'!$M$2:$M$49,MATCH($A8,'3_коефіцієнти_розширеного_аналі'!$C$2:$C$49,0)),IFERROR(INDEX('3_коефіцієнти_розширеного_аналі'!$M$2:$M$49,MATCH($A8,'3_коефіцієнти_розширеного_аналі'!$C$2:$C$49,0)),INDEX('2_Parameter_Scores'!$I$2:$I$34,MATCH($A8,'2_Parameter_Scores'!$B$2:$B$34,0))))),0) -> 0.35514286 | H8: =IFERROR(IF($C$4="ЕКСПРЕС",INDEX('2_Parameter_Scores'!$J$2:$J$34,MATCH($A8,'2_Parameter_Scores'!$B$2:$B$34,0)),IF($C$4="ПОВНЕ",INDEX('3_коефіцієнти_розширеного_аналі'!$N$2:$N$49,MATCH($A8,'3_коефіцієнти_розширеного_аналі'!$C$2:$C$49,0)),IFERROR(INDEX('3_коефіцієнти_розширеного_аналі'!$N$2:$N$49,MATCH($A8,'3_коефіцієнти_розширеного_аналі'!$C$2:$C$49,0)),INDEX('2_Parameter_Scores'!$J$2:$J$34,MATCH($A8,'2_Parameter_Scores'!$B$2:$B$34,0))))),0) -> 0.48771429 | I8: =IFERROR(IF($C$4="ЕКСПРЕС",INDEX('2_Parameter_Scores'!$K$2:$K$34,MATCH($A8,'2_Parameter_Scores'!$B$2:$B$34,0)),IF($C$4="ПОВНЕ",INDEX('3_коефіцієнти_розширеного_аналі'!$O$2:$O$49,MATCH($A8,'3_коефіцієнти_розширеного_аналі'!$C$2:$C$49,0)),IFERROR(INDEX('3_коефіцієнти_розширеного_аналі'!$O$2:$O$49,MATCH($A8,'3_коефіцієнти_розширеного_аналі'!$C$2:$C$49,0)),INDEX('2_Parameter_Scores'!$K$2:$K$34,MATCH($A8,'2_Parameter_Scores'!$B$2:$B$34,0))))),0) -> 0.55285714 | J8: =IFERROR(IF($C$4="ЕКСПРЕС",INDEX('2_Parameter_Scores'!$L$2:$L$34,MATCH($A8,'2_Parameter_Scores'!$B$2:$B$34,0)),IF($C$4="ПОВНЕ",INDEX('3_коефіцієнти_розширеного_аналі'!$P$2:$P$49,MATCH($A8,'3_коефіцієнти_розширеного_аналі'!$C$2:$C$49,0)),IFERROR(INDEX('3_коефіцієнти_розширеного_аналі'!$P$2:$P$49,MATCH($A8,'3_коефіцієнти_розширеного_аналі'!$C$2:$C$49,0)),INDEX('2_Parameter_Scores'!$L$2:$L$34,MATCH($A8,'2_Parameter_Scores'!$B$2:$B$34,0))))),0) -> 0.77457143 | K8: =IF(LEFT($E8,1)="—",0,1) -> 1 | L8: =IF($K8=0,0,$C8/SUMPRODUCT($C$7:$C$14,$K$7:$K$14)) -> 0.13636364 | M8: Валідований біомаркер (ESC/NASPE 1996)
A9: SDNN | B9: Загальна автономна регуляція | C9: 0.15 | D9: ↑ зростання | E9: =IF($C$4="ЕКСПРЕС",IF(ISNUMBER(MATCH($A9,'2_Parameter_Scores'!$B$2:$B$34,0)),"Експрес (лист 2)","— немає"),IF($C$4="ПОВНЕ",IF(ISNUMBER(MATCH($A9,'3_коефіцієнти_розширеного_аналі'!$C$2:$C$49,0)),"Повне (лист 3)","— немає"),IF(ISNUMBER(MATCH($A9,'3_коефіцієнти_розширеного_аналі'!$C$2:$C$49,0)),"Повне (лист 3)",IF(ISNUMBER(MATCH($A9,'2_Parameter_Scores'!$B$2:$B$34,0)),"Експрес (лист 2)","— немає")))) -> Повне (лист 3) | F9: =IFERROR(IF($C$4="ЕКСПРЕС",INDEX('2_Parameter_Scores'!$H$2:$H$34,MATCH($A9,'2_Parameter_Scores'!$B$2:$B$34,0)),IF($C$4="ПОВНЕ",INDEX('3_коефіцієнти_розширеного_аналі'!$L$2:$L$49,MATCH($A9,'3_коефіцієнти_розширеного_аналі'!$C$2:$C$49,0)),IFERROR(INDEX('3_коефіцієнти_розширеного_аналі'!$L$2:$L$49,MATCH($A9,'3_коефіцієнти_розширеного_аналі'!$C$2:$C$49,0)),INDEX('2_Parameter_Scores'!$H$2:$H$34,MATCH($A9,'2_Parameter_Scores'!$B$2:$B$34,0))))),0) -> 0.201 | G9: =IFERROR(IF($C$4="ЕКСПРЕС",INDEX('2_Parameter_Scores'!$I$2:$I$34,MATCH($A9,'2_Parameter_Scores'!$B$2:$B$34,0)),IF($C$4="ПОВНЕ",INDEX('3_коефіцієнти_розширеного_аналі'!$M$2:$M$49,MATCH($A9,'3_коефіцієнти_розширеного_аналі'!$C$2:$C$49,0)),IFERROR(INDEX('3_коефіцієнти_розширеного_аналі'!$M$2:$M$49,MATCH($A9,'3_коефіцієнти_розширеного_аналі'!$C$2:$C$49,0)),INDEX('2_Parameter_Scores'!$I$2:$I$34,MATCH($A9,'2_Parameter_Scores'!$B$2:$B$34,0))))),0) -> 0.2875 | H9: =IFERROR(IF($C$4="ЕКСПРЕС",INDEX('2_Parameter_Scores'!$J$2:$J$34,MATCH($A9,'2_Parameter_Scores'!$B$2:$B$34,0)),IF($C$4="ПОВНЕ",INDEX('3_коефіцієнти_розширеного_аналі'!$N$2:$N$49,MATCH($A9,'3_коефіцієнти_розширеного_аналі'!$C$2:$C$49,0)),IFERROR(INDEX('3_коефіцієнти_розширеного_аналі'!$N$2:$N$49,MATCH($A9,'3_коефіцієнти_розширеного_аналі'!$C$2:$C$49,0)),INDEX('2_Parameter_Scores'!$J$2:$J$34,MATCH($A9,'2_Parameter_Scores'!$B$2:$B$34,0))))),0) -> 0.407 | I9: =IFERROR(IF($C$4="ЕКСПРЕС",INDEX('2_Parameter_Scores'!$K$2:$K$34,MATCH($A9,'2_Parameter_Scores'!$B$2:$B$34,0)),IF($C$4="ПОВНЕ",INDEX('3_коефіцієнти_розширеного_аналі'!$O$2:$O$49,MATCH($A9,'3_коефіцієнти_розширеного_аналі'!$C$2:$C$49,0)),IFERROR(INDEX('3_коефіцієнти_розширеного_аналі'!$O$2:$O$49,MATCH($A9,'3_коефіцієнти_розширеного_аналі'!$C$2:$C$49,0)),INDEX('2_Parameter_Scores'!$K$2:$K$34,MATCH($A9,'2_Parameter_Scores'!$B$2:$B$34,0))))),0) -> 0.4125 | J9: =IFERROR(IF($C$4="ЕКСПРЕС",INDEX('2_Parameter_Scores'!$L$2:$L$34,MATCH($A9,'2_Parameter_Scores'!$B$2:$B$34,0)),IF($C$4="ПОВНЕ",INDEX('3_коефіцієнти_розширеного_аналі'!$P$2:$P$49,MATCH($A9,'3_коефіцієнти_розширеного_аналі'!$C$2:$C$49,0)),IFERROR(INDEX('3_коефіцієнти_розширеного_аналі'!$P$2:$P$49,MATCH($A9,'3_коефіцієнти_розширеного_аналі'!$C$2:$C$49,0)),INDEX('2_Parameter_Scores'!$L$2:$L$34,MATCH($A9,'2_Parameter_Scores'!$B$2:$B$34,0))))),0) -> 0.4505 | K9: =IF(LEFT($E9,1)="—",0,1) -> 1 | L9: =IF($K9=0,0,$C9/SUMPRODUCT($C$7:$C$14,$K$7:$K$14)) -> 0.13636364 | M9: Валідований біомаркер (ESC/NASPE 1996)
A10: LFHF | B10: Симпато-вагальний баланс | C10: 0.1 | D10: ↓ нормалізація | E10: =IF($C$4="ЕКСПРЕС",IF(ISNUMBER(MATCH($A10,'2_Parameter_Scores'!$B$2:$B$34,0)),"Експрес (лист 2)","— немає"),IF($C$4="ПОВНЕ",IF(ISNUMBER(MATCH($A10,'3_коефіцієнти_розширеного_аналі'!$C$2:$C$49,0)),"Повне (лист 3)","— немає"),IF(ISNUMBER(MATCH($A10,'3_коефіцієнти_розширеного_аналі'!$C$2:$C$49,0)),"Повне (лист 3)",IF(ISNUMBER(MATCH($A10,'2_Parameter_Scores'!$B$2:$B$34,0)),"Експрес (лист 2)","— немає")))) -> Повне (лист 3) | F10: =IFERROR(IF($C$4="ЕКСПРЕС",INDEX('2_Parameter_Scores'!$H$2:$H$34,MATCH($A10,'2_Parameter_Scores'!$B$2:$B$34,0)),IF($C$4="ПОВНЕ",INDEX('3_коефіцієнти_розширеного_аналі'!$L$2:$L$49,MATCH($A10,'3_коефіцієнти_розширеного_аналі'!$C$2:$C$49,0)),IFERROR(INDEX('3_коефіцієнти_розширеного_аналі'!$L$2:$L$49,MATCH($A10,'3_коефіцієнти_розширеного_аналі'!$C$2:$C$49,0)),INDEX('2_Parameter_Scores'!$H$2:$H$34,MATCH($A10,'2_Parameter_Scores'!$B$2:$B$34,0))))),0) -> 0.054102564 | G10: =IFERROR(IF($C$4="ЕКСПРЕС",INDEX('2_Parameter_Scores'!$I$2:$I$34,MATCH($A10,'2_Parameter_Scores'!$B$2:$B$34,0)),IF($C$4="ПОВНЕ",INDEX('3_коефіцієнти_розширеного_аналі'!$M$2:$M$49,MATCH($A10,'3_коефіцієнти_розширеного_аналі'!$C$2:$C$49,0)),IFERROR(INDEX('3_коефіцієнти_розширеного_аналі'!$M$2:$M$49,MATCH($A10,'3_коефіцієнти_розширеного_аналі'!$C$2:$C$49,0)),INDEX('2_Parameter_Scores'!$I$2:$I$34,MATCH($A10,'2_Parameter_Scores'!$B$2:$B$34,0))))),0) -> 0.25589744 | H10: =IFERROR(IF($C$4="ЕКСПРЕС",INDEX('2_Parameter_Scores'!$J$2:$J$34,MATCH($A10,'2_Parameter_Scores'!$B$2:$B$34,0)),IF($C$4="ПОВНЕ",INDEX('3_коефіцієнти_розширеного_аналі'!$N$2:$N$49,MATCH($A10,'3_коефіцієнти_розширеного_аналі'!$C$2:$C$49,0)),IFERROR(INDEX('3_коефіцієнти_розширеного_аналі'!$N$2:$N$49,MATCH($A10,'3_коефіцієнти_розширеного_аналі'!$C$2:$C$49,0)),INDEX('2_Parameter_Scores'!$J$2:$J$34,MATCH($A10,'2_Parameter_Scores'!$B$2:$B$34,0))))),0) -> 0.46589744 | I10: =IFERROR(IF($C$4="ЕКСПРЕС",INDEX('2_Parameter_Scores'!$K$2:$K$34,MATCH($A10,'2_Parameter_Scores'!$B$2:$B$34,0)),IF($C$4="ПОВНЕ",INDEX('3_коефіцієнти_розширеного_аналі'!$O$2:$O$49,MATCH($A10,'3_коефіцієнти_розширеного_аналі'!$C$2:$C$49,0)),IFERROR(INDEX('3_коефіцієнти_розширеного_аналі'!$O$2:$O$49,MATCH($A10,'3_коефіцієнти_розширеного_аналі'!$C$2:$C$49,0)),INDEX('2_Parameter_Scores'!$K$2:$K$34,MATCH($A10,'2_Parameter_Scores'!$B$2:$B$34,0))))),0) -> 0.50307692 | J10: =IFERROR(IF($C$4="ЕКСПРЕС",INDEX('2_Parameter_Scores'!$L$2:$L$34,MATCH($A10,'2_Parameter_Scores'!$B$2:$B$34,0)),IF($C$4="ПОВНЕ",INDEX('3_коефіцієнти_розширеного_аналі'!$P$2:$P$49,MATCH($A10,'3_коефіцієнти_розширеного_аналі'!$C$2:$C$49,0)),IFERROR(INDEX('3_коефіцієнти_розширеного_аналі'!$P$2:$P$49,MATCH($A10,'3_коефіцієнти_розширеного_аналі'!$C$2:$C$49,0)),INDEX('2_Parameter_Scores'!$L$2:$L$34,MATCH($A10,'2_Parameter_Scores'!$B$2:$B$34,0))))),0) -> 0.65282051 | K10: =IF(LEFT($E10,1)="—",0,1) -> 1 | L10: =IF($K10=0,0,$C10/SUMPRODUCT($C$7:$C$14,$K$7:$K$14)) -> 0.090909091 | M10: Біомаркер; трактування дискусійне
A11: ROM | B11: Біомеханіка: відновлення рухливості | C11: 0.1 | D11: ↑ зростання | E11: =IF($C$4="ЕКСПРЕС",IF(ISNUMBER(MATCH($A11,'2_Parameter_Scores'!$B$2:$B$34,0)),"Експрес (лист 2)","— немає"),IF($C$4="ПОВНЕ",IF(ISNUMBER(MATCH($A11,'3_коефіцієнти_розширеного_аналі'!$C$2:$C$49,0)),"Повне (лист 3)","— немає"),IF(ISNUMBER(MATCH($A11,'3_коефіцієнти_розширеного_аналі'!$C$2:$C$49,0)),"Повне (лист 3)",IF(ISNUMBER(MATCH($A11,'2_Parameter_Scores'!$B$2:$B$34,0)),"Експрес (лист 2)","— немає")))) -> Повне (лист 3) | F11: =IFERROR(IF($C$4="ЕКСПРЕС",INDEX('2_Parameter_Scores'!$H$2:$H$34,MATCH($A11,'2_Parameter_Scores'!$B$2:$B$34,0)),IF($C$4="ПОВНЕ",INDEX('3_коефіцієнти_розширеного_аналі'!$L$2:$L$49,MATCH($A11,'3_коефіцієнти_розширеного_аналі'!$C$2:$C$49,0)),IFERROR(INDEX('3_коефіцієнти_розширеного_аналі'!$L$2:$L$49,MATCH($A11,'3_коефіцієнти_розширеного_аналі'!$C$2:$C$49,0)),INDEX('2_Parameter_Scores'!$H$2:$H$34,MATCH($A11,'2_Parameter_Scores'!$B$2:$B$34,0))))),0) -> 0.022 | G11: =IFERROR(IF($C$4="ЕКСПРЕС",INDEX('2_Parameter_Scores'!$I$2:$I$34,MATCH($A11,'2_Parameter_Scores'!$B$2:$B$34,0)),IF($C$4="ПОВНЕ",INDEX('3_коефіцієнти_розширеного_аналі'!$M$2:$M$49,MATCH($A11,'3_коефіцієнти_розширеного_аналі'!$C$2:$C$49,0)),IFERROR(INDEX('3_коефіцієнти_розширеного_аналі'!$M$2:$M$49,MATCH($A11,'3_коефіцієнти_розширеного_аналі'!$C$2:$C$49,0)),INDEX('2_Parameter_Scores'!$I$2:$I$34,MATCH($A11,'2_Parameter_Scores'!$B$2:$B$34,0))))),0) -> 0.32514286 | H11: =IFERROR(IF($C$4="ЕКСПРЕС",INDEX('2_Parameter_Scores'!$J$2:$J$34,MATCH($A11,'2_Parameter_Scores'!$B$2:$B$34,0)),IF($C$4="ПОВНЕ",INDEX('3_коефіцієнти_розширеного_аналі'!$N$2:$N$49,MATCH($A11,'3_коефіцієнти_розширеного_аналі'!$C$2:$C$49,0)),IFERROR(INDEX('3_коефіцієнти_розширеного_аналі'!$N$2:$N$49,MATCH($A11,'3_коефіцієнти_розширеного_аналі'!$C$2:$C$49,0)),INDEX('2_Parameter_Scores'!$J$2:$J$34,MATCH($A11,'2_Parameter_Scores'!$B$2:$B$34,0))))),0) -> 0.38457143 | I11: =IFERROR(IF($C$4="ЕКСПРЕС",INDEX('2_Parameter_Scores'!$K$2:$K$34,MATCH($A11,'2_Parameter_Scores'!$B$2:$B$34,0)),IF($C$4="ПОВНЕ",INDEX('3_коефіцієнти_розширеного_аналі'!$O$2:$O$49,MATCH($A11,'3_коефіцієнти_розширеного_аналі'!$C$2:$C$49,0)),IFERROR(INDEX('3_коефіцієнти_розширеного_аналі'!$O$2:$O$49,MATCH($A11,'3_коефіцієнти_розширеного_аналі'!$C$2:$C$49,0)),INDEX('2_Parameter_Scores'!$K$2:$K$34,MATCH($A11,'2_Parameter_Scores'!$B$2:$B$34,0))))),0) -> 0.508 | J11: =IFERROR(IF($C$4="ЕКСПРЕС",INDEX('2_Parameter_Scores'!$L$2:$L$34,MATCH($A11,'2_Parameter_Scores'!$B$2:$B$34,0)),IF($C$4="ПОВНЕ",INDEX('3_коефіцієнти_розширеного_аналі'!$P$2:$P$49,MATCH($A11,'3_коефіцієнти_розширеного_аналі'!$C$2:$C$49,0)),IFERROR(INDEX('3_коефіцієнти_розширеного_аналі'!$P$2:$P$49,MATCH($A11,'3_коефіцієнти_розширеного_аналі'!$C$2:$C$49,0)),INDEX('2_Parameter_Scores'!$L$2:$L$34,MATCH($A11,'2_Parameter_Scores'!$B$2:$B$34,0))))),0) -> 0.69342857 | K11: =IF(LEFT($E11,1)="—",0,1) -> 1 | L11: =IF($K11=0,0,$C11/SUMPRODUCT($C$7:$C$14,$K$7:$K$14)) -> 0.090909091 | M11: Інструментальний, стандарт AAOS
A12: CRP | B12: Системне запалення | C12: 0.15 | D12: ↓ зниження | E12: =IF($C$4="ЕКСПРЕС",IF(ISNUMBER(MATCH($A12,'2_Parameter_Scores'!$B$2:$B$34,0)),"Експрес (лист 2)","— немає"),IF($C$4="ПОВНЕ",IF(ISNUMBER(MATCH($A12,'3_коефіцієнти_розширеного_аналі'!$C$2:$C$49,0)),"Повне (лист 3)","— немає"),IF(ISNUMBER(MATCH($A12,'3_коефіцієнти_розширеного_аналі'!$C$2:$C$49,0)),"Повне (лист 3)",IF(ISNUMBER(MATCH($A12,'2_Parameter_Scores'!$B$2:$B$34,0)),"Експрес (лист 2)","— немає")))) -> Повне (лист 3) | F12: =IFERROR(IF($C$4="ЕКСПРЕС",INDEX('2_Parameter_Scores'!$H$2:$H$34,MATCH($A12,'2_Parameter_Scores'!$B$2:$B$34,0)),IF($C$4="ПОВНЕ",INDEX('3_коефіцієнти_розширеного_аналі'!$L$2:$L$49,MATCH($A12,'3_коефіцієнти_розширеного_аналі'!$C$2:$C$49,0)),IFERROR(INDEX('3_коефіцієнти_розширеного_аналі'!$L$2:$L$49,MATCH($A12,'3_коефіцієнти_розширеного_аналі'!$C$2:$C$49,0)),INDEX('2_Parameter_Scores'!$H$2:$H$34,MATCH($A12,'2_Parameter_Scores'!$B$2:$B$34,0))))),0) -> 0.14305556 | G12: =IFERROR(IF($C$4="ЕКСПРЕС",INDEX('2_Parameter_Scores'!$I$2:$I$34,MATCH($A12,'2_Parameter_Scores'!$B$2:$B$34,0)),IF($C$4="ПОВНЕ",INDEX('3_коефіцієнти_розширеного_аналі'!$M$2:$M$49,MATCH($A12,'3_коефіцієнти_розширеного_аналі'!$C$2:$C$49,0)),IFERROR(INDEX('3_коефіцієнти_розширеного_аналі'!$M$2:$M$49,MATCH($A12,'3_коефіцієнти_розширеного_аналі'!$C$2:$C$49,0)),INDEX('2_Parameter_Scores'!$I$2:$I$34,MATCH($A12,'2_Parameter_Scores'!$B$2:$B$34,0))))),0) -> 0.25138889 | H12: =IFERROR(IF($C$4="ЕКСПРЕС",INDEX('2_Parameter_Scores'!$J$2:$J$34,MATCH($A12,'2_Parameter_Scores'!$B$2:$B$34,0)),IF($C$4="ПОВНЕ",INDEX('3_коефіцієнти_розширеного_аналі'!$N$2:$N$49,MATCH($A12,'3_коефіцієнти_розширеного_аналі'!$C$2:$C$49,0)),IFERROR(INDEX('3_коефіцієнти_розширеного_аналі'!$N$2:$N$49,MATCH($A12,'3_коефіцієнти_розширеного_аналі'!$C$2:$C$49,0)),INDEX('2_Parameter_Scores'!$J$2:$J$34,MATCH($A12,'2_Parameter_Scores'!$B$2:$B$34,0))))),0) -> 0.51416667 | I12: =IFERROR(IF($C$4="ЕКСПРЕС",INDEX('2_Parameter_Scores'!$K$2:$K$34,MATCH($A12,'2_Parameter_Scores'!$B$2:$B$34,0)),IF($C$4="ПОВНЕ",INDEX('3_коефіцієнти_розширеного_аналі'!$O$2:$O$49,MATCH($A12,'3_коефіцієнти_розширеного_аналі'!$C$2:$C$49,0)),IFERROR(INDEX('3_коефіцієнти_розширеного_аналі'!$O$2:$O$49,MATCH($A12,'3_коефіцієнти_розширеного_аналі'!$C$2:$C$49,0)),INDEX('2_Parameter_Scores'!$K$2:$K$34,MATCH($A12,'2_Parameter_Scores'!$B$2:$B$34,0))))),0) -> 0.50277778 | J12: =IFERROR(IF($C$4="ЕКСПРЕС",INDEX('2_Parameter_Scores'!$L$2:$L$34,MATCH($A12,'2_Parameter_Scores'!$B$2:$B$34,0)),IF($C$4="ПОВНЕ",INDEX('3_коефіцієнти_розширеного_аналі'!$P$2:$P$49,MATCH($A12,'3_коефіцієнти_розширеного_аналі'!$C$2:$C$49,0)),IFERROR(INDEX('3_коефіцієнти_розширеного_аналі'!$P$2:$P$49,MATCH($A12,'3_коефіцієнти_розширеного_аналі'!$C$2:$C$49,0)),INDEX('2_Parameter_Scores'!$L$2:$L$34,MATCH($A12,'2_Parameter_Scores'!$B$2:$B$34,0))))),0) -> 0.74861111 | K12: =IF(LEFT($E12,1)="—",0,1) -> 1 | L12: =IF($K12=0,0,$C12/SUMPRODUCT($C$7:$C$14,$K$7:$K$14)) -> 0.13636364 | M12: Валідований лабораторний біомаркер
